BEGIN:VCALENDAR
VERSION:2.0
PRODID:-//Tukios.com/
BEGIN:VEVENT
UID:0a48c4ff-77d8-4382-bd0f-43349b7f3d83@www.jamesfamilyfunerals.com
DTSTAMP:20260421T190939Z
DTSTART:20260425T180000Z
DTEND:20260425T190000Z
SUMMARY:Celebration of Life
DESCRIPTION:
URL:https://www.jamesfamilyfunerals.com/obituaries/brian-long
LOCATION:James Wilson Funeral Home 143 Gravity Road  Lake Ariel PA 18436
GEO:41.4564183;-75.3843896
END:VEVENT
END:VCALENDAR