BEGIN:VCALENDAR
VERSION:2.0
PRODID:-//Tukios.com/
BEGIN:VEVENT
UID:63b0ff34-49af-4a78-afe4-2deb8262528d@www.jamesfamilyfunerals.com
DTSTAMP:20260421T190530Z
DTSTART:20260425T150000Z
DTEND:20260425T180000Z
SUMMARY:Visitation
DESCRIPTION:
URL:https://www.jamesfamilyfunerals.com/obituaries/brian-long
LOCATION:James Wilson Funeral Home 143 Gravity Road  Lake Ariel PA 18436
GEO:41.4564183;-75.3843896
END:VEVENT
END:VCALENDAR