BEGIN:VCALENDAR
VERSION:2.0
PRODID:-//Tukios.com/
BEGIN:VEVENT
UID:ecf88d66-5335-49f1-bfe9-66f07d9173d9@www.jamesfamilyfunerals.com
DTSTAMP:20260424T021347Z
DTSTART:20260426T190000Z
DTEND:20260426T210000Z
SUMMARY:Celebration of Life
DESCRIPTION:
URL:https://www.jamesfamilyfunerals.com/obituaries/devin-proppe
LOCATION:James Wilson Funeral Home 143 Gravity Road  Lake Ariel PA 18436
GEO:41.4564183;-75.3843896
END:VEVENT
END:VCALENDAR