BEGIN:VCALENDAR
VERSION:2.0
PRODID:-//Tukios.com/
BEGIN:VEVENT
UID:1d3ed5e6-b68a-4950-b064-c63217d92710@www.jamesfamilyfunerals.com
DTSTAMP:20260425T193248Z
DTSTART:20260427T210000Z
DTEND:20260427T230000Z
SUMMARY:Viewing
DESCRIPTION:
URL:https://www.jamesfamilyfunerals.com/obituaries/linda-philbin
LOCATION:Charles F. Snyder Funeral Home & Crematory 3110 Lititz Pike  
	Lititz PA 17543
GEO:40.1119728;-76.3061043
END:VEVENT
END:VCALENDAR