BEGIN:VCALENDAR
VERSION:2.0
PRODID:-//Tukios.com/
BEGIN:VEVENT
UID:b48f9539-a9ad-40d3-b99f-bfac5053b88f@www.jamesfamilyfunerals.com
DTSTAMP:20260425T193523Z
DTSTART:20260430T130000Z
DTEND:20260430T140000Z
SUMMARY:Viewing
DESCRIPTION:
URL:https://www.jamesfamilyfunerals.com/obituaries/linda-philbin
LOCATION:Holy Rosary Church 316 William Street  Scranton PA 18508
GEO:41.4408069;-75.6575841
END:VEVENT
END:VCALENDAR