BEGIN:VCALENDAR
VERSION:2.0
PRODID:-//Tukios.com/
BEGIN:VEVENT
UID:ad6345e6-68bd-4030-aa3e-60f483b7d4ec@www.jamesfamilyfunerals.com
DTSTAMP:20260425T193248Z
DTSTART:20260427T230000Z
DTEND:20260427T233000Z
SUMMARY:Prayer Service
DESCRIPTION:
URL:https://www.jamesfamilyfunerals.com/obituaries/linda-philbin
LOCATION:Charles F. Snyder Funeral Home & Crematory 3110 Lititz Pike  
	Lititz PA 17543
GEO:40.1119728;-76.3061043
END:VEVENT
END:VCALENDAR