BEGIN:VCALENDAR
VERSION:2.0
PRODID:-//Tukios.com/
BEGIN:VEVENT
UID:8e51cfc6-4f5b-410a-a1cb-b5637dc37cc9@www.jamesfamilyfunerals.com
DTSTAMP:20260425T193635Z
DTSTART:20260430T140000Z
DTEND:20260430T150000Z
SUMMARY:Mass
DESCRIPTION:
URL:https://www.jamesfamilyfunerals.com/obituaries/linda-philbin
LOCATION:Holy Rosary Church 316 William Street  Scranton PA 18508
GEO:41.4408069;-75.6575841
END:VEVENT
END:VCALENDAR